BEGIN:VCALENDAR
VERSION:2.0
PRODID:-//hacksw/handcal//NONSGML v1.0//EN
BEGIN:VEVENT
SUMMARY:Pot chocolat
UID:8b820352-26fc-48ad-9cd5-eed621e6f93b
DTSTART:20260409T153000Z
DTEND:20260409T220000Z
LOCATION:Localisation   
CATEGORIES:Festif
STATUS:
DESCRIPTION:<p>Bonjour,</p>
 
 <p>les adherents qui ne participent pas
 au tournoi sont invites a indiquer s'ils souhaitent venir au pot et a
 la distribution de chocolats, qui aura lieu a 17h30.</p>
URL;VALUE=URI:https://www.bridge-courbevoie.fr/evenements/2026/04/09/pot-chocolat-2434096
END:VEVENT
END:VCALENDAR
