BEGIN:VCALENDAR
VERSION:2.0
PRODID:-//hacksw/handcal//NONSGML v1.0//EN
BEGIN:VEVENT
SUMMARY:Tournoi Chocolat
UID:759dc48b-d49f-4a74-99fe-81a5e624efd2
DTSTART:20260409T120000Z
DTEND:20260409T220000Z
LOCATION:Localisation   
CATEGORIES:Sportif
STATUS:
DESCRIPTION:<p>Le traditionnel tournoi chocolat aura lieu cette annee
 le jeudi 9 avril. Exceptionnellement, le tournoi commencera a 14h
 precises, afin d'avoir le temps d'organiser un pot sans empieter sur
 le cours de 18h.</p>
URL;VALUE=URI:https://www.bridge-courbevoie.fr/evenements/2026/04/09/tournoi-chocolat-2430911
END:VEVENT
END:VCALENDAR
